BEGIN:VCALENDAR
VERSION:2.0
PRODID:-//Western Landowners Alliance - ECPv6.15.20//NONSGML v1.0//EN
CALSCALE:GREGORIAN
METHOD:PUBLISH
X-WR-CALNAME:Western Landowners Alliance
X-ORIGINAL-URL:https://westernlandowners.org
X-WR-CALDESC:Events for Western Landowners Alliance
REFRESH-INTERVAL;VALUE=DURATION:PT1H
X-Robots-Tag:noindex
X-PUBLISHED-TTL:PT1H
BEGIN:VTIMEZONE
TZID:America/Denver
BEGIN:DAYLIGHT
TZOFFSETFROM:-0700
TZOFFSETTO:-0600
TZNAME:MDT
DTSTART:20250309T090000
END:DAYLIGHT
BEGIN:STANDARD
TZOFFSETFROM:-0600
TZOFFSETTO:-0700
TZNAME:MST
DTSTART:20251102T080000
END:STANDARD
BEGIN:DAYLIGHT
TZOFFSETFROM:-0700
TZOFFSETTO:-0600
TZNAME:MDT
DTSTART:20260308T090000
END:DAYLIGHT
BEGIN:STANDARD
TZOFFSETFROM:-0600
TZOFFSETTO:-0700
TZNAME:MST
DTSTART:20261101T080000
END:STANDARD
BEGIN:DAYLIGHT
TZOFFSETFROM:-0700
TZOFFSETTO:-0600
TZNAME:MDT
DTSTART:20270314T090000
END:DAYLIGHT
BEGIN:STANDARD
TZOFFSETFROM:-0600
TZOFFSETTO:-0700
TZNAME:MST
DTSTART:20271107T080000
END:STANDARD
END:VTIMEZONE
BEGIN:VEVENT
DTSTART;TZID=America/Denver:20260606T083000
DTEND;TZID=America/Denver:20260606T150000
DTSTAMP:20260421T082930
CREATED:20260420T170020Z
LAST-MODIFIED:20260420T170102Z
UID:10000585-1780734600-1780758000@westernlandowners.org
SUMMARY:Managing Rangeland for Drought & Resilience: In the Field with Jim Gerrish
DESCRIPTION:Learn practical strategies for landowners & agricultural producers to stay profitable & build resilience in drought and wildfire conditions from Jim Gerrish\, grazing expert\, consultant\, and speaker. \nGerrish is an author and longtime contributor to The Stockman Grass Farmer. He has educated thousands of producers across the United States and Canada on grazing and ranch management. \nRSVP at 970.878.9838 \nConfirmation email includes workshop details! \nWORKSHOP \nFIELD TOUR \nBREAKFAST/LUNCH \nFIELD DAY \n*LIMITED AVAILABILITY* \nField Day: Saturday June 6\, 8:30 am – 3 pm \nWhere: Craig\, CO \nMORNING SESSION\nWelcome (breakfast provided)\nSteps to Prepare for Drought & Wildfire\nGrazing Tips to Increase Productivity\nKicking the Fertilizer Habit \nAFTERNOON SESSION\nBook Signing (lunch provided)\nField Visits\nGrazing for Year Round Health\nEnsure Stockpile to Reduce Hay Labor
URL:https://westernlandowners.org/event/managing-rangeland-for-drought-resilience-in-the-field-with-jim-gerrish/
LOCATION:Craig\, Colorado\, Craig\, CO\, United States
CATEGORIES:Field Tour
ATTACH;FMTTYPE=image/png:https://westernlandowners.org/wp-content/uploads/2026/04/Screenshot-2026-04-20-at-10-59-26-JimGerrishEvent_June6-26-11.pdf.png
ORGANIZER;CN="White River and Douglas Creek Conservation Districts":MAILTO:whiterivercd@gmail.com
END:VEVENT
END:VCALENDAR