BEGIN:VCALENDAR
VERSION:2.0
PRODID:-//Western Landowners Alliance - ECPv6.15.20//NONSGML v1.0//EN
CALSCALE:GREGORIAN
METHOD:PUBLISH
X-WR-CALNAME:Western Landowners Alliance
X-ORIGINAL-URL:https://westernlandowners.org
X-WR-CALDESC:Events for Western Landowners Alliance
REFRESH-INTERVAL;VALUE=DURATION:PT1H
X-Robots-Tag:noindex
X-PUBLISHED-TTL:PT1H
BEGIN:VTIMEZONE
TZID:America/Denver
BEGIN:DAYLIGHT
TZOFFSETFROM:-0700
TZOFFSETTO:-0600
TZNAME:MDT
DTSTART:20250309T090000
END:DAYLIGHT
BEGIN:STANDARD
TZOFFSETFROM:-0600
TZOFFSETTO:-0700
TZNAME:MST
DTSTART:20251102T080000
END:STANDARD
BEGIN:DAYLIGHT
TZOFFSETFROM:-0700
TZOFFSETTO:-0600
TZNAME:MDT
DTSTART:20260308T090000
END:DAYLIGHT
BEGIN:STANDARD
TZOFFSETFROM:-0600
TZOFFSETTO:-0700
TZNAME:MST
DTSTART:20261101T080000
END:STANDARD
BEGIN:DAYLIGHT
TZOFFSETFROM:-0700
TZOFFSETTO:-0600
TZNAME:MDT
DTSTART:20270314T090000
END:DAYLIGHT
BEGIN:STANDARD
TZOFFSETFROM:-0600
TZOFFSETTO:-0700
TZNAME:MST
DTSTART:20271107T080000
END:STANDARD
END:VTIMEZONE
BEGIN:VEVENT
DTSTART;VALUE=DATE:20260513
DTEND;VALUE=DATE:20260515
DTSTAMP:20260423T132028
CREATED:20260420T201958Z
LAST-MODIFIED:20260420T201958Z
UID:10000586-1778630400-1778803199@westernlandowners.org
SUMMARY:Western Range and Pasture Management
DESCRIPTION:This exciting event is your opportunity to learn about western range and pasture management on your ranch. Join us at the Champions Club in the West Stadium Center for two days filled with insightful sessions and networking opportunities. Whether you’re a seasoned entrepreneur or just starting out\, this event will provide you with valuable knowledge and resources to take your enterprise to the next level. Don’t miss out on this chance to connect with industry experts and fellow enthusiasts! \nPre-Conference Workshop + $10 (includes lunch) \n\n\nPrinciples of Managing Grazing\nStocking Rate Considerations and Harvest Efficiency\nUsing New Technology to Monitor and Manage Grazing on Rangelands\n\nHow to Use Range Analysis Platform (hands on demonstration)\nPlease bring your laptop or tablet for workshop\n\n\n\nConference Topics: \n\nThe Art of Grazing Management\, Kicking the Hay Habit\nUsing Seeding to Improve Range Production\nNutritional Needs of Cattle: The Science of Grazing Rest\, The Economics of Stocking Rate\nVirtual Fence Options\, Overview\, and Use\nManaging Your Grazing Permit: Being a Good Permittee\nPoisonous Plants: What should I worry about and management strategies\nRange Improvement Programs through NRCS\n\n\n\n\n\n\n\n\n\n\n\nWestern Ranch Management Academy\nAbout the Academy \nUtah State University Extension has joined with Intermountain Farmers Association (IFA) to establish an ongoing ranch management seminar series focused on the Intermountain West. The series will provide high-quality educational opportunities for ranchers and allied industry professionals. \nWRMA seminars will each cover topics critical to the long-term success of ranching in the Intermountain West. Experts on specific topics will present material designed to provide the attendees with a working knowledge of the subject in an interactive setting. Ranchers will have the opportunity to network with subject-matter experts and other producers looking to improve their operations. \nRanchers and allied industry professionals will benefit from this deep dive into all facets of successful ranch management. To accommodate an intimate learning environment\, class sizes will be limited. \nFor additional information go to: \nhttps://qanr.usu.edu/wrma/
URL:https://westernlandowners.org/event/western-range-and-pasture-management/
LOCATION:Champions Club in the West Stadium Center\, 1000 North 800 East\, Logan\, UT\, United States
CATEGORIES:Seminar
ATTACH;FMTTYPE=image/jpeg:https://westernlandowners.org/wp-content/uploads/2026/04/Screenshot-2026-04-20-at-14-16-59-Summary-Western-Range-and-Pasture-Management.jpg
END:VEVENT
END:VCALENDAR