BEGIN:VCALENDAR
VERSION:2.0
PRODID:-//Western Landowners Alliance - ECPv6.15.20//NONSGML v1.0//EN
CALSCALE:GREGORIAN
METHOD:PUBLISH
X-ORIGINAL-URL:https://westernlandowners.org
X-WR-CALDESC:Events for Western Landowners Alliance
REFRESH-INTERVAL;VALUE=DURATION:PT1H
X-Robots-Tag:noindex
X-PUBLISHED-TTL:PT1H
BEGIN:VTIMEZONE
TZID:America/Denver
BEGIN:DAYLIGHT
TZOFFSETFROM:-0700
TZOFFSETTO:-0600
TZNAME:MDT
DTSTART:20250309T090000
END:DAYLIGHT
BEGIN:STANDARD
TZOFFSETFROM:-0600
TZOFFSETTO:-0700
TZNAME:MST
DTSTART:20251102T080000
END:STANDARD
BEGIN:DAYLIGHT
TZOFFSETFROM:-0700
TZOFFSETTO:-0600
TZNAME:MDT
DTSTART:20260308T090000
END:DAYLIGHT
BEGIN:STANDARD
TZOFFSETFROM:-0600
TZOFFSETTO:-0700
TZNAME:MST
DTSTART:20261101T080000
END:STANDARD
BEGIN:DAYLIGHT
TZOFFSETFROM:-0700
TZOFFSETTO:-0600
TZNAME:MDT
DTSTART:20270314T090000
END:DAYLIGHT
BEGIN:STANDARD
TZOFFSETFROM:-0600
TZOFFSETTO:-0700
TZNAME:MST
DTSTART:20271107T080000
END:STANDARD
END:VTIMEZONE
BEGIN:VEVENT
DTSTART;TZID=America/Denver:20260617T160000
DTEND;TZID=America/Denver:20260621T160000
DTSTAMP:20260421T071200
CREATED:20260219T183024Z
LAST-MODIFIED:20260219T183024Z
UID:10000565-1781712000-1782057600@westernlandowners.org
SUMMARY:Move ’Em Right: The Art of Calm Cattle and Confident Crews
DESCRIPTION:Join Redwing Ranch for a working stockmanship clinic designed to improve your ability to handle and manage cattle with clarity and precision. This clinic follows the Bud Williams style of stockmanship\, teaching participants how to apply timing\, positioning\, and consistent pressure to move livestock efficiently and confidently in any situation. \nWhile much of the instruction and practice will take place on horseback\, participants will also spend time on foot to understand livestock behavior and movement from the animal’s perspective. \nParticipants will: \n\n\nBuild a stronger understanding of herd behavior and movement \n\n\nLearn to use pressure and angles effectively when handling cattle \n\n\nPractice moving and sorting animals in both pastures and corrals \n\n\nImprove timing\, positioning\, and teamwork with other handlers \n\n\nSee how effective stockmanship supports animal performance\, safety\, and ranch profitability \n\n\nHorse & Facility Details \nParticipants must bring their own horse\, along with feed\, hay\, and a water bucket. Redwing Ranch will provide: \n\n\nIndividual stalls \n\n\nAccess to shared wheelbarrows\, shovels\, and cleaning tools \n\n\nSpace for trailer parking and tack storage \n\n\nDetails \nJune 17–21\, 2026  \n📍 Redwing Ranch\, 105 Co Rd 570\, Gardner\, CO  \nTuition: Tiered pricing available   \nCheck-in: 4:00 PM Wednesday | Wrap-up: 12:00 PM Sunday \nAll-inclusive with chef-prepared meals\, five-star rated lodging or camping\, and course materials. Space is limited to ensure a focused\, hands-on learning environment.
URL:https://westernlandowners.org/event/move-em-right-the-art-of-calm-cattle-and-confident-crews/
LOCATION:Redwing Ranch\, Redwing Ranch\, Gardner\, CO\, United States
CATEGORIES:Workshop
ATTACH;FMTTYPE=image/png:https://westernlandowners.org/wp-content/uploads/2026/02/Screenshot-2026-02-19-at-11-17-30-Move-Em-Right-The-Art-of-Calm-Cattle-and-Confident-Crews-Redwing-Ranch.png
GEO:37.7833397;-105.1655542
X-APPLE-STRUCTURED-LOCATION;VALUE=URI;X-ADDRESS=Redwing Ranch Redwing Ranch Gardner CO United States;X-APPLE-RADIUS=500;X-TITLE=Redwing Ranch:geo:-105.1655542,37.7833397
END:VEVENT
BEGIN:VEVENT
DTSTART;TZID=America/Denver:20261016T160000
DTEND;TZID=America/Denver:20261018T160000
DTSTAMP:20260421T071200
CREATED:20260219T191156Z
LAST-MODIFIED:20260219T191156Z
UID:10000567-1792166400-1792339200@westernlandowners.org
SUMMARY:October Buckin’ Babes: Chainsaws\, Confidence & Community
DESCRIPTION:About the event \n\n\n\nPart of the Redwing Core Curriculum\, Buckin’ Babes is a welcoming\, all-inclusive weekend for women and gender-expansive participants eager to develop land-based skills. Over the course of the workshop\, you’ll progress from saw basics to practical field work that connects technical skill with stewardship and fire resilience. \nDay 1 focuses on safety\, equipment setup\, and foundational cutting techniques. Day 2 builds toward real-world application—pile burning\, brush clearing\, felling\, and shaded-fuel-break projects on the ranch. \nParticipants will: \n\n\nUnderstand chainsaw function\, operation\, and safety protocols \n\n\nPractice cutting\, limbing\, and log-handling techniques \n\n\nLearn sharpening\, bar-oil\, fuel-mix\, and general maintenance routines \n\n\nGain an introduction to tree felling and on-site hazard assessment \n\n\nApply fuel-management principles: pile burning\, defensible-space layout\, and shaded-fuel-break design \n\n\nBuild lasting confidence through hands-on practice in real outdoor conditions \n\n\nWho This Is For \nThis workshop is open to women and gender-marginalized individuals of all experience levels—no prior chainsaw background required. Come curious and ready to learn in a supportive\, collaborative community. \nDetails \nOctober 16–18\, 2026 \nRedwing Ranch Gardner\, CO \nTuition: Tiered pricing available \nCheck-in: Friday 4:30 PM | Wrap-up: Sunday 4 PM \nWhat’s Included \n\n\nInstruction from an all-women+ instructor team \n\n\nUse of chainsaws\, PPE\, and tools \n\n\nAll meals Friday dinner → Sunday lunch \n\n\nTwo nights of lodging (or camping option) \n\n\nWorkshop materials and field resources \n  \n\n\nCut with confidence. Care for the land. Join the crew.
URL:https://westernlandowners.org/event/october-buckin-babes-chainsaws-confidence-community/
LOCATION:Redwing Ranch\, Redwing Ranch\, Gardner\, CO\, United States
CATEGORIES:Workshop
ATTACH;FMTTYPE=image/jpeg:https://westernlandowners.org/wp-content/uploads/2026/02/Screenshot-2026-02-19-at-12-10-20-October-Buckin-Babes-Chainsaws-Confidence-Community-Redwing-Ranch.jpg
GEO:37.7833397;-105.1655542
X-APPLE-STRUCTURED-LOCATION;VALUE=URI;X-ADDRESS=Redwing Ranch Redwing Ranch Gardner CO United States;X-APPLE-RADIUS=500;X-TITLE=Redwing Ranch:geo:-105.1655542,37.7833397
END:VEVENT
END:VCALENDAR