BEGIN:VCALENDAR
VERSION:2.0
PRODID:-//Western Landowners Alliance - ECPv6.15.20//NONSGML v1.0//EN
CALSCALE:GREGORIAN
METHOD:PUBLISH
X-ORIGINAL-URL:https://westernlandowners.org
X-WR-CALDESC:Events for Western Landowners Alliance
REFRESH-INTERVAL;VALUE=DURATION:PT1H
X-Robots-Tag:noindex
X-PUBLISHED-TTL:PT1H
BEGIN:VTIMEZONE
TZID:America/Denver
BEGIN:DAYLIGHT
TZOFFSETFROM:-0700
TZOFFSETTO:-0600
TZNAME:MDT
DTSTART:20240310T090000
END:DAYLIGHT
BEGIN:STANDARD
TZOFFSETFROM:-0600
TZOFFSETTO:-0700
TZNAME:MST
DTSTART:20241103T080000
END:STANDARD
BEGIN:DAYLIGHT
TZOFFSETFROM:-0700
TZOFFSETTO:-0600
TZNAME:MDT
DTSTART:20250309T090000
END:DAYLIGHT
BEGIN:STANDARD
TZOFFSETFROM:-0600
TZOFFSETTO:-0700
TZNAME:MST
DTSTART:20251102T080000
END:STANDARD
BEGIN:DAYLIGHT
TZOFFSETFROM:-0700
TZOFFSETTO:-0600
TZNAME:MDT
DTSTART:20260308T090000
END:DAYLIGHT
BEGIN:STANDARD
TZOFFSETFROM:-0600
TZOFFSETTO:-0700
TZNAME:MST
DTSTART:20261101T080000
END:STANDARD
END:VTIMEZONE
BEGIN:VEVENT
DTSTART;TZID=America/Denver:20250603T080000
DTEND;TZID=America/Denver:20250605T153000
DTSTAMP:20260421T170805
CREATED:20250506T175455Z
LAST-MODIFIED:20250506T175455Z
UID:10000512-1748937600-1749137400@westernlandowners.org
SUMMARY:406 Grazing Academy
DESCRIPTION:Join us June 3-5\, 2025 in Havre\, Montana for the 406 Grazing Academy! \nThe 406 is an immersive 3-day hands-on learning experience to deepen your knowledge of grazing management. This event will feature educational and campfire speakers\, grazing demos\, in-class instruction\, and field tours of MSU’s Northern Agricultural Experiment Station in Havre. \nWorkshop cost is $150 per person and includes educational materials\, dinner and lunch all 3 days. \nAcademy Highlights: \n\n\nSoil health & Pasture walks \n\n\nRiparian Area Grazing \n\n\nClipping and soil texturing exercises \n\n\nStocking rate & density demos \n\n\nPlant ID: Beneficial & Poisonous plants \n\n\nPhoto monitoring how-to’s \n\n\nAnimal nutrition \n\n\nDiscovery of online tools \n\n\nEconomics of grazing systems \n\n\nCampfire speakers​ \n\n\n***Camping options may be available\, click here for more information
URL:https://westernlandowners.org/event/406-grazing-academy/
LOCATION:Havre\, Montana
CATEGORIES:Course,Field Tour,Seminar
ATTACH;FMTTYPE=image/avif:https://westernlandowners.org/wp-content/uploads/2025/05/barn.avif
END:VEVENT
END:VCALENDAR