BEGIN:VCALENDAR
VERSION:2.0
PRODID:-//Western Landowners Alliance - ECPv6.15.20//NONSGML v1.0//EN
CALSCALE:GREGORIAN
METHOD:PUBLISH
X-ORIGINAL-URL:https://westernlandowners.org
X-WR-CALDESC:Events for Western Landowners Alliance
REFRESH-INTERVAL;VALUE=DURATION:PT1H
X-Robots-Tag:noindex
X-PUBLISHED-TTL:PT1H
BEGIN:VTIMEZONE
TZID:America/Denver
BEGIN:DAYLIGHT
TZOFFSETFROM:-0700
TZOFFSETTO:-0600
TZNAME:MDT
DTSTART:20240310T090000
END:DAYLIGHT
BEGIN:STANDARD
TZOFFSETFROM:-0600
TZOFFSETTO:-0700
TZNAME:MST
DTSTART:20241103T080000
END:STANDARD
BEGIN:DAYLIGHT
TZOFFSETFROM:-0700
TZOFFSETTO:-0600
TZNAME:MDT
DTSTART:20250309T090000
END:DAYLIGHT
BEGIN:STANDARD
TZOFFSETFROM:-0600
TZOFFSETTO:-0700
TZNAME:MST
DTSTART:20251102T080000
END:STANDARD
BEGIN:DAYLIGHT
TZOFFSETFROM:-0700
TZOFFSETTO:-0600
TZNAME:MDT
DTSTART:20260308T090000
END:DAYLIGHT
BEGIN:STANDARD
TZOFFSETFROM:-0600
TZOFFSETTO:-0700
TZNAME:MST
DTSTART:20261101T080000
END:STANDARD
BEGIN:DAYLIGHT
TZOFFSETFROM:-0700
TZOFFSETTO:-0600
TZNAME:MDT
DTSTART:20270314T090000
END:DAYLIGHT
BEGIN:STANDARD
TZOFFSETFROM:-0600
TZOFFSETTO:-0700
TZNAME:MST
DTSTART:20271107T080000
END:STANDARD
END:VTIMEZONE
BEGIN:VEVENT
DTSTART;TZID=America/Denver:20260413T110000
DTEND;TZID=America/Denver:20260413T150000
DTSTAMP:20260421T105503
CREATED:20260406T174721Z
LAST-MODIFIED:20260406T174721Z
UID:10000581-1776078000-1776092400@westernlandowners.org
SUMMARY:Responding to Drought Impacts in 2026: Workshop for Livestock Producers
DESCRIPTION:Join Colorado State University Extension for a FREE\, hands-on workshop that will help you prepare and plan ahead to make drought impacts less severe on your operation. \n✔ Learn from experts and leaders \n✔ Gain strategies to manage your herd and resources \n\n\n✔  Talk with other livestock producers \nTopics include:\n📋  Create a strategic drought plan\n🦗  Anticipating insect impacts in drought\n🏛️  Learn about tax implications of reducing your herd size \n\n\n📍 Location: The River Rock Cafe\n📅 Monday\, April 13th\, 2026\n🕒  Time: 11:00am – 3:00pm\n🍽️ Lunch provided\n👥 One registration per person
URL:https://westernlandowners.org/event/responding-to-drought-impacts-in-2026-workshop-for-livestock-producers/
LOCATION:The River Rock Cafe\, 460 Main\, Walden\, CO\, 80430\, United States
CATEGORIES:Workshop
ATTACH;FMTTYPE=image/jpeg:https://westernlandowners.org/wp-content/uploads/2026/04/Screenshot-2026-04-06-at-11-45-54-2026-Drought-workshop-Montezuma_2026_Drought_workshop.jpg
END:VEVENT
BEGIN:VEVENT
DTSTART;TZID=America/Denver:20260402T180000
DTEND;TZID=America/Denver:20260402T200000
DTSTAMP:20260421T105503
CREATED:20260325T200943Z
LAST-MODIFIED:20260325T201043Z
UID:10000576-1775152800-1775160000@westernlandowners.org
SUMMARY:Where the Wild Things Graze: A Night of Films Celebrating the Rangelands That Sustain Our World
DESCRIPTION:(Want to see the latest WLA film Three Creeks in theaters? Here’s your chance! Learn more about the new movie here.)\nLook out your window in the Roaring Fork Valley and much of what you see is rangeland. On April 2\, 6-8 pm you are invited to learn about the remarkable story of these landscapes and the people who have called them home for generations. \nRangelands cover nearly half of the Earth’s unfrozen surface\, supporting incredible biodiversity\, storing carbon\, producing food\, and sustaining the lives of hundreds of millions of people\, from Colorado ranchers to nomadic herders on the Mongolian steppe. Despite their vastness\, these ecosystems are among the most overlooked on Earth; that’s beginning to change. At the urging of over 102 nations\, the United Nations\nhas designated 2026 as the International Year of Rangelands and Pastoralists\, and two local rangeland specialists are bringing that global call back home to Carbondale. \nFilms From Around the Globe \nThe April 2nd event will feature a curated selection of short films from around the world- screened to support the UN’s International Year of Rangelands and Pastoralists. Each film provides a view into landscapes and ways of life that few of us ever see\, broadening our understanding of the people and land that feed the world. \nSpecial Presentations by Two Remarkable Voices \nDr. Maria Fernández-Giménez | Retired Professor of Rangeland Ecology & Management\, Colorado State University \nDr. Fernández-Giménez has spent more than three decades studying pastoral communities in the American West\, Spain\, and Mongolia — where she was among the first Western scientists to conduct field research after the country’s transition from Communism. Her contributions have been recognized at the highest levels: in 2016\, Mongolia awarded her the Order of the Polar Star — the country’s highest civilian\nhonor for foreign nationals\, previously bestowed upon Hillary Clinton and John McCain. With over 100 peer-reviewed publications\, she offers rare depth to the story of the world’s pastoralists. \nMeriwether Hardie | Explorer\, Storyteller & Author \nSome people study the land. Meriwether Hardie lives it. After growing up on a family farm in Vermont\, she spent a year as an environmental journalism fellow with Bill McKibben — then bought a horse for $200 in Argentina and rode from Patagonia to Bolivia on horseback\, voice recorder in hand\, to report on indigenous communities caught between tradition and modernity. In 2025\, she traded that trail for the dirt roads of the rural American West. She is now writing a book on the future of Western working lands\, drawn from conversations at the end of those driveways — with ranchers\, Indigenous families\, and conservationists navigating change. \nLocally Rooted\, Globally Connected \nThe event is organized by Sami Dinar\, a local rangeland management specialist\, and Retta Bruegger of CSU Extension — both deeply involved in the rangelands and agricultural communities of the Roaring Fork Valley. \nCol“The Roaring Fork Valley is known for its world-class skiing\, recreation\, and stunning landscapes — but many people don’t realize that agriculture is also part of this community\, literally woven into the land we love. We wanted to bring visibility to the issues that impact ranchers here and pastoralists globally\, and to build appreciation for rangelands and the people who depend on them.” — Sami Dinar\, Event Organizer \nAdmission is free. Seating is limited. \nPre-register to guarantee your spot — and enjoy a complimentary popcorn and drink on us. \nhttps://970tix.com/events/rangelandfilms \nWednesday\, April 2\, 2026 • 6 – 8 PM \nThe Crystal Theatre • 427 Main St. • Carbondale\, Colorado
URL:https://westernlandowners.org/event/where-the-wild-things-graze-a-night-of-films-celebrating-the-rangelands-that-sustain-our-world/
LOCATION:The Crystal Theatre\, 427 Main Street\, Carbondale\, CO\, 81623\, United States
CATEGORIES:Film
ATTACH;FMTTYPE=image/jpeg:https://westernlandowners.org/wp-content/uploads/2026/03/iyrp-film-fest.jpg
END:VEVENT
BEGIN:VEVENT
DTSTART;TZID=America/Denver:20251103T183000
DTEND;TZID=America/Denver:20251103T210000
DTSTAMP:20260421T105503
CREATED:20251027T200614Z
LAST-MODIFIED:20251027T201227Z
UID:10000544-1762194600-1762203600@westernlandowners.org
SUMMARY:CSU San Luis Valley: Ag Business Workshop
DESCRIPTION:RSVP: 719.852.7381 \nTopics include: \n\nCustom Rates & Enterprise Budgets\nNew Decision Tools and Notes\nAg Tax Update\nMarket Outlook:\n\nCattle (Feeders and Fed)\nHay\nGrains\nOther\n\n\n\nSpeakers include Jeff Tranel\, CSU Extension Regional Ag Business Specialist\, and Larry Brown\, Director of CSU Extension – San Luis Valley Area.
URL:https://westernlandowners.org/event/ag-business-workshop/
LOCATION:Ski Hi Complex\, 2335 Sherman Avenue\, Monte Vista\, CO\, 81144\, United States
CATEGORIES:Workshop
ATTACH;FMTTYPE=image/jpeg:https://westernlandowners.org/wp-content/uploads/2025/10/Ag-Business-Workshop-2025.pdf-2.jpg
GEO:37.5748458;-106.1233654
X-APPLE-STRUCTURED-LOCATION;VALUE=URI;X-ADDRESS=Ski Hi Complex 2335 Sherman Avenue Monte Vista CO 81144 United States;X-APPLE-RADIUS=500;X-TITLE=2335 Sherman Avenue:geo:-106.1233654,37.5748458
END:VEVENT
END:VCALENDAR