BEGIN:VCALENDAR
VERSION:2.0
PRODID:-//Western Landowners Alliance - ECPv6.15.20//NONSGML v1.0//EN
CALSCALE:GREGORIAN
METHOD:PUBLISH
X-ORIGINAL-URL:https://westernlandowners.org
X-WR-CALDESC:Events for Western Landowners Alliance
REFRESH-INTERVAL;VALUE=DURATION:PT1H
X-Robots-Tag:noindex
X-PUBLISHED-TTL:PT1H
BEGIN:VTIMEZONE
TZID:America/Denver
BEGIN:DAYLIGHT
TZOFFSETFROM:-0700
TZOFFSETTO:-0600
TZNAME:MDT
DTSTART:20250309T090000
END:DAYLIGHT
BEGIN:STANDARD
TZOFFSETFROM:-0600
TZOFFSETTO:-0700
TZNAME:MST
DTSTART:20251102T080000
END:STANDARD
BEGIN:DAYLIGHT
TZOFFSETFROM:-0700
TZOFFSETTO:-0600
TZNAME:MDT
DTSTART:20260308T090000
END:DAYLIGHT
BEGIN:STANDARD
TZOFFSETFROM:-0600
TZOFFSETTO:-0700
TZNAME:MST
DTSTART:20261101T080000
END:STANDARD
BEGIN:DAYLIGHT
TZOFFSETFROM:-0700
TZOFFSETTO:-0600
TZNAME:MDT
DTSTART:20270314T090000
END:DAYLIGHT
BEGIN:STANDARD
TZOFFSETFROM:-0600
TZOFFSETTO:-0700
TZNAME:MST
DTSTART:20271107T080000
END:STANDARD
END:VTIMEZONE
BEGIN:VEVENT
DTSTART;VALUE=DATE:20260326
DTEND;VALUE=DATE:20260328
DTSTAMP:20260425T044320
CREATED:20260311T221751Z
LAST-MODIFIED:20260311T221751Z
UID:10000573-1774483200-1774655999@westernlandowners.org
SUMMARY:Stewarding our Water Future Conference
DESCRIPTION:Ogallala Commons invites you to register for our upcoming regional education event\, a “Stewarding Our Water Future” Conference on March 26-27\, 2026\, at the Burlington Community Center in Burlington\, CO! \nThursday\, March 26th features a full day of conference presentations and exhibitions from 9:00 am – 4:30 pm\, followed by a couple of Field Tours on Friday morning\, March 27th (finishing with lunch then adjournment at 1pm Mountain Time. \nThe conference is presented by Ogallala Commons\, with generous grant funding from the Gates Family Foundation. \nPurpose of the Conference: \nWith irrigation prospects and domestic well levels dwindling\, along with greatly reduced surface water in our rivers and tributaries\, it’s easy to get discouraged about future water resources in the eastern Plains of Colorado. \nFor more than a century\, human communities made a living by extracting large amounts of water from local landscapes. But going forward\, our well-being and survival will depend on how well we keep water circulating in the landscapes\, finding ways to rehydrate our soils\, our streambeds and grasslands. \nThe purpose of this conference is: 1) to shift the public conversation about water depletion toward a more hopeful narrative built on a wide range of innovative solutions\, and 2) to expand the stakeholder coalition focused on improving the water realities we leave for future generations. \nIn addition to more than seven sessions featuring 11 speakers on March 26th\, the second day will offer three Field Tours on Friday morning\, March 27th\, conducted in the Burlington area (make sure you choose a tour when registering). There is also an option for attending only one day of the conference or only the Field Tours.
URL:https://westernlandowners.org/event/stewarding-our-water-future-conference/
LOCATION:Burlington Community Center\, 340 S 14th Street\, Burlington\, CO\, 80807\, United States
CATEGORIES:Conference
ATTACH;FMTTYPE=image/jpeg:https://westernlandowners.org/wp-content/uploads/2026/03/Screenshot-2026-03-11-at-16-07-56-Stewarding-our-Water-Future-Conference.jpg
END:VEVENT
BEGIN:VEVENT
DTSTART;TZID=America/Denver:20260327T130000
DTEND;TZID=America/Denver:20260327T140000
DTSTAMP:20260425T044320
CREATED:20250324T195516Z
LAST-MODIFIED:20250324T195516Z
UID:10000505-1774616400-1774620000@westernlandowners.org
SUMMARY:CalGLC Webinar Series
DESCRIPTION:Building Partnerships in Stewardship Economies: Ranching\, community-based organization\, voluntary conservation\, rangeland research\, and policy-making all intersect in successful efforts for rural economic development and sustainability. Let’s talk about it! \nAre you interested in strategies for working more effectively with peers and partners? \nHear from representatives from local\, state\, and west-wide efforts focused on the stewardship of working lands and working communities by working together. \n\nMarch 28 at noon PST\nCentering Community Voices – Using Situation\, Problem Solution Framework \n\nFunctionality and dysfunctionality of collaboration\nProblems and wicked problems\nFeasibility\, utility & risk\nSituation\, problem\, solution\nWhere does innovation and adaptation happen?\nWhy do we engage or not engage?\nTalking through examples like: Public Lands\, Water\, Wildlife\, and Economic Development\n\n\nApril 25\nRanchers in the Driver’s Seat: Addressing risk\, strengthening community\, and improving quality of life together\n \n\nInviting new perspectives and skill sets into your community—and when some just show up\nManaging the tensions – being grounded in the community while navigating funding\, agency rules/culture\, etc.\nLeaning into the cycles of conflict and resolution\, and knowing when not to partner/collaborate and who to invite\nMulti-generational opportunities and challenges\nThe power of convening/coordinating capacity as generative/emergent\n\nMay 30\nFrom ranch to co-lobor-atory\, from research to co-production- better science through community partnerships \nJune 27\nGrounded policy – discovering solutions within ranching communities
URL:https://westernlandowners.org/event/calglc-webinar-series/2026-03-27/
LOCATION:https://us02web.zoom.us/webinar/register/WN_coc2S4L6RZ2kPmz39RNilA#/registration
ATTACH;FMTTYPE=image/png:https://westernlandowners.org/wp-content/uploads/2024/08/CalGLC-logo.png
ORGANIZER;CN="CalGLC":MAILTO:akarol@westernlandowners.rog
END:VEVENT
END:VCALENDAR