BEGIN:VCALENDAR
VERSION:2.0
PRODID:-//Western Landowners Alliance - ECPv6.15.20//NONSGML v1.0//EN
CALSCALE:GREGORIAN
METHOD:PUBLISH
X-ORIGINAL-URL:https://westernlandowners.org
X-WR-CALDESC:Events for Western Landowners Alliance
REFRESH-INTERVAL;VALUE=DURATION:PT1H
X-Robots-Tag:noindex
X-PUBLISHED-TTL:PT1H
BEGIN:VTIMEZONE
TZID:America/Denver
BEGIN:DAYLIGHT
TZOFFSETFROM:-0700
TZOFFSETTO:-0600
TZNAME:MDT
DTSTART:20250309T090000
END:DAYLIGHT
BEGIN:STANDARD
TZOFFSETFROM:-0600
TZOFFSETTO:-0700
TZNAME:MST
DTSTART:20251102T080000
END:STANDARD
BEGIN:DAYLIGHT
TZOFFSETFROM:-0700
TZOFFSETTO:-0600
TZNAME:MDT
DTSTART:20260308T090000
END:DAYLIGHT
BEGIN:STANDARD
TZOFFSETFROM:-0600
TZOFFSETTO:-0700
TZNAME:MST
DTSTART:20261101T080000
END:STANDARD
BEGIN:DAYLIGHT
TZOFFSETFROM:-0700
TZOFFSETTO:-0600
TZNAME:MDT
DTSTART:20270314T090000
END:DAYLIGHT
BEGIN:STANDARD
TZOFFSETFROM:-0600
TZOFFSETTO:-0700
TZNAME:MST
DTSTART:20271107T080000
END:STANDARD
END:VTIMEZONE
BEGIN:VEVENT
DTSTART;TZID=America/Denver:20260210T120000
DTEND;TZID=America/Denver:20260210T130000
DTSTAMP:20260421T164944
CREATED:20260205T173944Z
LAST-MODIFIED:20260205T173946Z
UID:10000563-1770724800-1770728400@westernlandowners.org
SUMMARY:Ranch Managers Guild - Virtual Fence Technologies on Working Lands
DESCRIPTION:This call will bring Ranch Managers Guild members together for a candid\, peer-to-peer discussion about the use of virtual fencing technologies in real-world ranch operations. Members will share firsthand experiences with different systems\, what it actually takes to implement and operate them\, and how the technology is affecting cattle behavior\, labor\, costs\, and management flexibility. The goal is to move beyond marketing claims and focus on practical lessons learned from managers who are using or seriously evaluating virtual fencing.  \nWe’ll discuss:  \n\nOverall experiences using virtual fencing in day-to-day operations \n\n\nUpfront and ongoing costs\, including installation\, labor\, and maintenance \n\n\nUnintended consequences\, limitations\, or surprising outcomes \n\n\nComparisons between different virtual fencing companies and platforms \n\n\nHow cattle have responded and adapted over time \n\n\nThe realities of operating the apps and managing herds digitally \n\n\nHow to identify cost-share programs and funding opportunities \n\nParticipation is reserved for active members of the Ranch Managers Guild. Not signed up yet? You can sign up here today. 
URL:https://westernlandowners.org/event/ranch-managers-guild-virtual-fence-technologies-on-working-lands/
LOCATION:Zoom
ATTACH;FMTTYPE=image/png:https://westernlandowners.org/wp-content/uploads/2026/02/February-1.png
ORGANIZER;CN="Western Landowners Alliance":MAILTO:info@westernlandowners.org
END:VEVENT
BEGIN:VEVENT
DTSTART;TZID=America/Denver:20260210T120000
DTEND;TZID=America/Denver:20260210T140000
DTSTAMP:20260421T164944
CREATED:20260203T222408Z
LAST-MODIFIED:20260203T222408Z
UID:10000562-1770724800-1770732000@westernlandowners.org
SUMMARY:Managing Wolf Depredation: Reporting\, Documentation\, and Support
DESCRIPTION:At this workshop\, Dr. Brackett\, DVM and local ranchers will share their experiences with the claim process. Attendees will learn what steps to take after a suspected wolf kill to improve the chances of having a depredation confirmed. \nThis workshop is intended for livestock owners and managers. Lunch is provided. \nRSVP to denyse@eccdistrict.org or at 970-236-6168
URL:https://westernlandowners.org/event/managing-wolf-depredation-reporting-documentation-and-support/
LOCATION:Burns\, Colorado\, Burns\, CO\, 80426\, United States
CATEGORIES:Workshop
ATTACH;FMTTYPE=image/png:https://westernlandowners.org/wp-content/uploads/2026/02/Screenshot-2026-02-03-at-15-21-39-Fwd-Eagle-CD-Managing-wolf-depredation-workshop-at-ranch-Burns-CO-Feb.-10-tplank@westernlandowners.org-Western-Landowners-Alliance-Mail.png
ORGANIZER;CN="Eagle County Conservation District":MAILTO:Conservation@ECCDistrict.org
END:VEVENT
BEGIN:VEVENT
DTSTART;TZID=America/Denver:20260212T120000
DTEND;TZID=America/Denver:20260212T130000
DTSTAMP:20260421T164944
CREATED:20260108T222818Z
LAST-MODIFIED:20260218T205304Z
UID:10000558-1770897600-1770901200@westernlandowners.org
SUMMARY:Soil Health & Nutrient Management Webinar
DESCRIPTION:Featured speaker: Donnie Englehardt \nDonnie is an experienced agricultural consultant with a deep-rooted commitment to advancing soil health\, plant vitality\, livestock wellbeing\, and water quality. With a diverse background spanning regenerative land management and sustainable farming systems\, he brings an integrative perspective to every operation\, large or small. \nHosted by Western Landowners Alliance\, Rocky Mountain Front Ranchlands Group\, and the National Fish & Wildlife Foundation.
URL:https://westernlandowners.org/event/soil-health-nutrient-management-webinar/
LOCATION:Zoom
CATEGORIES:Webinar
ATTACH;FMTTYPE=image/png:https://westernlandowners.org/wp-content/uploads/2026/01/Screenshot-2026-01-08-at-15-27-45-Meeting-Registration-Zoom.png
END:VEVENT
END:VCALENDAR