BEGIN:VCALENDAR
VERSION:2.0
PRODID:-//Western Landowners Alliance - ECPv6.15.20//NONSGML v1.0//EN
CALSCALE:GREGORIAN
METHOD:PUBLISH
X-ORIGINAL-URL:https://westernlandowners.org
X-WR-CALDESC:Events for Western Landowners Alliance
REFRESH-INTERVAL;VALUE=DURATION:PT1H
X-Robots-Tag:noindex
X-PUBLISHED-TTL:PT1H
BEGIN:VTIMEZONE
TZID:America/Denver
BEGIN:DAYLIGHT
TZOFFSETFROM:-0700
TZOFFSETTO:-0600
TZNAME:MDT
DTSTART:20240310T090000
END:DAYLIGHT
BEGIN:STANDARD
TZOFFSETFROM:-0600
TZOFFSETTO:-0700
TZNAME:MST
DTSTART:20241103T080000
END:STANDARD
BEGIN:DAYLIGHT
TZOFFSETFROM:-0700
TZOFFSETTO:-0600
TZNAME:MDT
DTSTART:20250309T090000
END:DAYLIGHT
BEGIN:STANDARD
TZOFFSETFROM:-0600
TZOFFSETTO:-0700
TZNAME:MST
DTSTART:20251102T080000
END:STANDARD
BEGIN:DAYLIGHT
TZOFFSETFROM:-0700
TZOFFSETTO:-0600
TZNAME:MDT
DTSTART:20260308T090000
END:DAYLIGHT
BEGIN:STANDARD
TZOFFSETFROM:-0600
TZOFFSETTO:-0700
TZNAME:MST
DTSTART:20261101T080000
END:STANDARD
END:VTIMEZONE
BEGIN:VTIMEZONE
TZID:America/Los_Angeles
BEGIN:DAYLIGHT
TZOFFSETFROM:-0800
TZOFFSETTO:-0700
TZNAME:PDT
DTSTART:20240310T100000
END:DAYLIGHT
BEGIN:STANDARD
TZOFFSETFROM:-0700
TZOFFSETTO:-0800
TZNAME:PST
DTSTART:20241103T090000
END:STANDARD
BEGIN:DAYLIGHT
TZOFFSETFROM:-0800
TZOFFSETTO:-0700
TZNAME:PDT
DTSTART:20250309T100000
END:DAYLIGHT
BEGIN:STANDARD
TZOFFSETFROM:-0700
TZOFFSETTO:-0800
TZNAME:PST
DTSTART:20251102T090000
END:STANDARD
BEGIN:DAYLIGHT
TZOFFSETFROM:-0800
TZOFFSETTO:-0700
TZNAME:PDT
DTSTART:20260308T100000
END:DAYLIGHT
BEGIN:STANDARD
TZOFFSETFROM:-0700
TZOFFSETTO:-0800
TZNAME:PST
DTSTART:20261101T090000
END:STANDARD
END:VTIMEZONE
BEGIN:VEVENT
DTSTART;TZID=America/Denver:20250603T080000
DTEND;TZID=America/Denver:20250605T153000
DTSTAMP:20260421T205331
CREATED:20250506T175455Z
LAST-MODIFIED:20250506T175455Z
UID:10000512-1748937600-1749137400@westernlandowners.org
SUMMARY:406 Grazing Academy
DESCRIPTION:Join us June 3-5\, 2025 in Havre\, Montana for the 406 Grazing Academy! \nThe 406 is an immersive 3-day hands-on learning experience to deepen your knowledge of grazing management. This event will feature educational and campfire speakers\, grazing demos\, in-class instruction\, and field tours of MSU’s Northern Agricultural Experiment Station in Havre. \nWorkshop cost is $150 per person and includes educational materials\, dinner and lunch all 3 days. \nAcademy Highlights: \n\n\nSoil health & Pasture walks \n\n\nRiparian Area Grazing \n\n\nClipping and soil texturing exercises \n\n\nStocking rate & density demos \n\n\nPlant ID: Beneficial & Poisonous plants \n\n\nPhoto monitoring how-to’s \n\n\nAnimal nutrition \n\n\nDiscovery of online tools \n\n\nEconomics of grazing systems \n\n\nCampfire speakers​ \n\n\n***Camping options may be available\, click here for more information
URL:https://westernlandowners.org/event/406-grazing-academy/
LOCATION:Havre\, Montana
CATEGORIES:Course,Field Tour,Seminar
ATTACH;FMTTYPE=image/avif:https://westernlandowners.org/wp-content/uploads/2025/05/barn.avif
END:VEVENT
BEGIN:VEVENT
DTSTART;TZID=America/Denver:20250605T080000
DTEND;TZID=America/Denver:20250608T170000
DTSTAMP:20260421T205331
CREATED:20250311T164828Z
LAST-MODIFIED:20250311T164828Z
UID:10000489-1749110400-1749402000@westernlandowners.org
SUMMARY:Regional Resilience: Advancing Land Stewardship Through Prescribed Grazing
DESCRIPTION:Want to enhance your land stewardship skills and contribute to a more resilient ecosystem? Join Grazing School of the West & White Buffalo Land Trust for this regionally-focused field lab designed for graziers\, land managers and owners\, agriculturalists\, conservationists\, and fire professionals seeking practical tools and strategies to integrate livestock grazing into agricultural and fire-adapted landscapes. Over four days\, participants will delve into grazing techniques tailored to diverse regional ecological contexts\, including chaparral\, grasslands\, orchards and vineyards\, while addressing key goals such as fire readiness\, climate change mitigation\, watershed management\, soil health\, and biodiversity enhancement. \nThrough a combination of field demonstrations\, classroom sessions\, and collaborative learning\, this intensive equips participants with the tools to make grazing a cornerstone of effective landscape stewardship\, emphasizing a resilient ecosystem\, reduced wildfire risk\, and economic opportunities. \n* This course completes the Context and Foundations modules of Holistic Management that can count towards accreditation.\n \nWhat You Will Learn\nThrough a combination of hands-on demonstrations and engaging classroom sessions\, you’ll gain practical tools and strategies for success. This course covers the foundations of Holistic Management\, grazing charts and stockmanship for non-traditional grazing contexts\, ecological monitoring and invasive species management\, fire ecology and using grazing as part of a toolkit of varied vegetation-management approaches\, managing livestock in crop systems and other contexts\, funding opportunities\, financial planning tools\, creating grazing contracts with public and private entities and more! \nLearn to: \nMitigate wildfire risk and promote ecosystem health \nIntegrate grazing techniques tailored to chaparral\, grasslands\, and vineyards \nEnhance soil health and biodiversity \nIncrease the economic viability of your operations
URL:https://westernlandowners.org/event/regional-resilience-advancing-land-stewardship-through-prescribed-grazing/
LOCATION:Center for Regnerative Agriculture at Jalama Canyon Ranch\, 3635 Jalama Rd\, Lompoc\, CA\, United States
CATEGORIES:Workshop
ATTACH;FMTTYPE=image/jpeg:https://westernlandowners.org/wp-content/uploads/2025/03/Fall2023ShepherdsBootcamp-68.jpg
GEO:34.5771765;-120.414297
X-APPLE-STRUCTURED-LOCATION;VALUE=URI;X-ADDRESS=Center for Regnerative Agriculture at Jalama Canyon Ranch 3635 Jalama Rd Lompoc CA United States;X-APPLE-RADIUS=500;X-TITLE=3635 Jalama Rd:geo:-120.414297,34.5771765
END:VEVENT
BEGIN:VEVENT
DTSTART;TZID=America/Denver:20250612T120000
DTEND;TZID=America/Denver:20250612T140000
DTSTAMP:20260421T205331
CREATED:20250512T175657Z
LAST-MODIFIED:20250520T151513Z
UID:10000515-1749729600-1749736800@westernlandowners.org
SUMMARY:Targeted Grazing for Wildlife\, Wildfire and Weeds: Working Lands Webinar
DESCRIPTION:Good grazing is great land stewardship – and can be a profitable\, earth-friendly alternative to chemical or mechanical methods of managing vegetation. Join this panel discussion and networking session to hear from graziers paid for precision grazing as a stewardship tool to enhance habitat for rare wildlife\, prevent wildfires\, combat invasive weeds and more! Get tips on how to set up grazing-based stewardship service businesses\, while balancing risk\, rewards and quality of life for you and your livestock working in targeted grazing projects across the West. \nThe first hour of the meeting you will hear from producer’s who have found success in using target grazing. Stick around for the “Open Ranges Session” during the second hour to ask questions and discuss this topic more deeply with the panelists and other attendees.
URL:https://westernlandowners.org/event/targeted-grazing-for-wildlife-wildfire-and-weeds-working-lands-webinar/
LOCATION:https://us06web.zoom.us/meeting/register/Uol-qKoqTwKyuCH-4O2hoQ
CATEGORIES:Webinar
ATTACH;FMTTYPE=image/png:https://westernlandowners.org/wp-content/uploads/2025/05/WW-4-email-header-1.png
ORGANIZER;CN="Western Landowners Alliance":MAILTO:info@westernlandowners.org
END:VEVENT
BEGIN:VEVENT
DTSTART;TZID=America/Los_Angeles:20250617T080000
DTEND;TZID=America/Los_Angeles:20250617T130000
DTSTAMP:20260421T205331
CREATED:20250613T203852Z
LAST-MODIFIED:20250613T203852Z
UID:10000523-1750147200-1750165200@westernlandowners.org
SUMMARY:Rancher to Rancher Field Day
DESCRIPTION:The Sierra Resource Conservation District invites ranchers to come to their June 17 field day where they can see conservation practices in action\, discuss healthy soil principles and connect with fellow ranchers. Those attending will learn cost-effective practices for grazing management and will discover programs to support their operations. Lunch will be served.
URL:https://westernlandowners.org/event/rancher-to-rancher-field-day/
LOCATION:Oak Crest Ranch\, Mountain View Peak Road\, O'Neals\, CA\, United States
CATEGORIES:Field Tour,Workshop
ATTACH;FMTTYPE=image/png:https://westernlandowners.org/wp-content/uploads/2025/06/IMG_1232-New.png
ORGANIZER;CN="Sierra Resource Conservation District":MAILTO:office@sierrarcd.com
GEO:37.1806639;-119.6120908
X-APPLE-STRUCTURED-LOCATION;VALUE=URI;X-ADDRESS=Oak Crest Ranch Mountain View Peak Road O'Neals CA United States;X-APPLE-RADIUS=500;X-TITLE=Mountain View Peak Road:geo:-119.6120908,37.1806639
END:VEVENT
BEGIN:VEVENT
DTSTART;TZID=America/Denver:20250625T130000
DTEND;TZID=America/Denver:20250625T170000
DTSTAMP:20260421T205331
CREATED:20250529T223825Z
LAST-MODIFIED:20250529T223825Z
UID:10000520-1750856400-1750870800@westernlandowners.org
SUMMARY:Colorado Cattlemen's Agricultural Land Trust Succession Planning Workshop
DESCRIPTION:The Colorado Cattlemen’s Agricultural Land Trust is hosting a Succession Planning Workshop directly after the Colorado Cattlemen’s Association’s Annual Convention in June. \nThis workshop will feature guest speakers who will provide an overview of the family\, legal\, and financial aspects of succession planning\, and help you find your first or next step. This is a free workshop for all Colorado landowners and producers\, and registration is recommended. Walk-ins will also be welcome. \nCCALT has joined a nationwide effort to catalyze succession planning among farm and ranch families and enable agricultural land access for a new generation of farmers and ranchers. In the next few decades\, it is projected that at least one-third of this nation’s agricultural lands (over 300 million acres) will change hands\, making them vulnerable to conversion and development. We are committed to supporting landowners who seek services to ensure working lands remain in working hands for future generations. \nCCALT plan on recording this workshop and will send out the access link when it becomes available for distribution.
URL:https://westernlandowners.org/event/colorado-cattlemens-agricultural-land-trust-succession-planning-workshop/
LOCATION:Steamboat Grand\, 2300 Mt Werner Circle\, Steamboat Springs\, CO\, 80487\, United States
CATEGORIES:Seminar
ATTACH;FMTTYPE=image/png:https://westernlandowners.org/wp-content/uploads/2025/05/Screenshot-2025-05-29-at-16-34-14-CCALT-NW-Succession-Planning-Workshop.png
END:VEVENT
BEGIN:VEVENT
DTSTART;TZID=America/Denver:20250626T080000
DTEND;TZID=America/Denver:20250626T170000
DTSTAMP:20260421T205331
CREATED:20250512T185310Z
LAST-MODIFIED:20250512T185310Z
UID:10000516-1750924800-1750957200@westernlandowners.org
SUMMARY:Research Field Day Pfaltzgraff Farms
DESCRIPTION:June 26th will be a busy day in NE Colorado! \nWith eight different projects being presented impacting arid\, dryland farming as well as water conservation\, farmable agrivoltaic shelterbelts\, and technology in farming\, we’re sure you’ll learn something new.\n\nPlease join Dr. Jerry Hatfield\, Dr. Megan Machmuller\, Dr. Lexi Firth\, Helen Silver\, Ian Aksland\, Roy Pfaltzgraff\, Precision Ag Solved\, Longboard Power\, local NRCS\, and many others for this incredible day.\n\nFood will be sourced locally and from Pfaltzgraff Farms to be prepared by world-recognized Chef Pablo Aya. Colombian decent and French trained\, you’re in for a delight that you don’t find at other field day events.\n\nThe evening offers another opportunity for Chef Pablo’s cooking (can we tease you with a whole roasted hog?  Haxtun Heritage Mills is hosting a PBS Pledge Drive for their show Heart of a Building\, which will be showcasing the agrivoltaics at Pfaltzgraff Farms and the impact this shelterbelt has on farming all the way though the energy efficient millhouse that processes the gluten free grains for baking mixes and flours\, making this a truly local food.
URL:https://westernlandowners.org/event/research-field-day-pfaltzgraff-farms/
LOCATION:UT
CATEGORIES:Field Tour
ATTACH;FMTTYPE=image/png:https://westernlandowners.org/wp-content/uploads/2025/05/PFZgreen-clear.png
END:VEVENT
BEGIN:VEVENT
DTSTART;TZID=America/Denver:20250626T160000
DTEND;TZID=America/Denver:20250626T190000
DTSTAMP:20260421T205331
CREATED:20250520T175625Z
LAST-MODIFIED:20250520T175625Z
UID:10000518-1750953600-1750964400@westernlandowners.org
SUMMARY:Weeds\, Wildlands\, and More
DESCRIPTION:Stewarding the places you love with community\, resources\, and good cheer…. \nJoin Us!\nDrop by the Cody Auditorium for cool drinks\, tasty snacks\, good neighbors\, local beef and brew\, and an array of land management and conservation specialists to help connect you with the tools you need.\nLight fare\, cash bar\, open to the public \nDoor Prizes! \nInfo: Laura Bell 307-272-4613\nlaura@legacyworksgroup.com\nEast Yellowstone Collaborative \n 
URL:https://westernlandowners.org/event/weeds-wildlands-and-more-2/
LOCATION:Cody Audiotorium\, 1240 Beck Ave\, Cody\, WY
ATTACH;FMTTYPE=image/jpeg:https://westernlandowners.org/wp-content/uploads/2025/05/Weeds-Wildlands-poster.2025-1.jpg
ORGANIZER;CN="East Yellowstone Collaborative":MAILTO:laura@legacyworksgroup.com
GEO:44.5246284;-109.062585
X-APPLE-STRUCTURED-LOCATION;VALUE=URI;X-ADDRESS=Cody Audiotorium 1240 Beck Ave Cody WY;X-APPLE-RADIUS=500;X-TITLE=1240 Beck Ave:geo:-109.062585,44.5246284
END:VEVENT
BEGIN:VEVENT
DTSTART;TZID=America/Denver:20250627T130000
DTEND;TZID=America/Denver:20250627T140000
DTSTAMP:20260421T205331
CREATED:20250324T195516Z
LAST-MODIFIED:20250324T195516Z
UID:10000496-1751029200-1751032800@westernlandowners.org
SUMMARY:CalGLC Webinar Series
DESCRIPTION:Building Partnerships in Stewardship Economies: Ranching\, community-based organization\, voluntary conservation\, rangeland research\, and policy-making all intersect in successful efforts for rural economic development and sustainability. Let’s talk about it! \nAre you interested in strategies for working more effectively with peers and partners? \nHear from representatives from local\, state\, and west-wide efforts focused on the stewardship of working lands and working communities by working together. \n\nMarch 28 at noon PST\nCentering Community Voices – Using Situation\, Problem Solution Framework \n\nFunctionality and dysfunctionality of collaboration\nProblems and wicked problems\nFeasibility\, utility & risk\nSituation\, problem\, solution\nWhere does innovation and adaptation happen?\nWhy do we engage or not engage?\nTalking through examples like: Public Lands\, Water\, Wildlife\, and Economic Development\n\n\nApril 25\nRanchers in the Driver’s Seat: Addressing risk\, strengthening community\, and improving quality of life together\n \n\nInviting new perspectives and skill sets into your community—and when some just show up\nManaging the tensions – being grounded in the community while navigating funding\, agency rules/culture\, etc.\nLeaning into the cycles of conflict and resolution\, and knowing when not to partner/collaborate and who to invite\nMulti-generational opportunities and challenges\nThe power of convening/coordinating capacity as generative/emergent\n\nMay 30\nFrom ranch to co-lobor-atory\, from research to co-production- better science through community partnerships \nJune 27\nGrounded policy – discovering solutions within ranching communities
URL:https://westernlandowners.org/event/calglc-webinar-series/2025-06-27/
LOCATION:https://us02web.zoom.us/webinar/register/WN_coc2S4L6RZ2kPmz39RNilA#/registration
ATTACH;FMTTYPE=image/png:https://westernlandowners.org/wp-content/uploads/2024/08/CalGLC-logo.png
ORGANIZER;CN="CalGLC":MAILTO:akarol@westernlandowners.rog
END:VEVENT
BEGIN:VEVENT
DTSTART;TZID=America/Denver:20250628T080000
DTEND;TZID=America/Denver:20250629T130000
DTSTAMP:20260421T205331
CREATED:20250304T212552Z
LAST-MODIFIED:20250304T212552Z
UID:10000487-1751097600-1751202000@westernlandowners.org
SUMMARY:Grit & Grazing  Where Cowgirls Master the Range & the Bottom Lines
DESCRIPTION:Join us for a two-day workshop designed to demystify grazing calculations and help you align your livestock with available forage. Ideal for operators with some grazing experience\, this workshop is perfect whether you’re a new or seasoned manager\, taking on operational responsibilities\, or eager to try something new. \nLearn practical\, proven strategies to develop a right-sized grazing plan and calculate the best financial returns on water and fencing investments. Whether you’re creating a grazing plan for the first time or refining an existing one with new financial strategies\, you’ll gain essential tools to boost productivity and profitability while meeting ecological goals. \nPlanning and numbers don’t have to be confusing—let us show you a simple\, effective approach! Don’t miss this chance to learn from real-world practitioners\, connect with fellow women in the ranching industry\, and leave with actionable strategies for your operation.\n\nRegistration Closes June 13th 2025 \n \nRecommended Arrival: June 27th \nMeals:  \n\n\nFriday: No-host group dinner at 6:30 PM – bring your own meal. \n\n\nSaturday: Bring your own breakfast\, coffee provided. Lunch & dinner will be provided. \n\n\nSunday: Bring your own breakfast\, coffee provided. Lunch will be provided. \nArrival • June 27th \nNo-host group gathering dinner at 6:30PM \nGet settled into camp \n\nDay 01• June 28th \nMorning-Cowboy Coffee and meetup \nField Walk with example pasture sites \nWorksheet walkthrough \nInfrastructure Breakdown \nHost Lunch \nEnterprise Analysis \nVisit cattle to see CG in practice \nRelax before dinner (walk around the ranch\, swim in the river) \nHost Dinner\, camp fire\, opportunity for 1:1 questions and sessions about what we learned from the day \nDay 02• June 29th \nMorning-Cowboy Coffee \n8:30AM – 12PM \nCost share considerations/opportunities \nVisit a site on the ranch where infrastructure pays or doesn’t pay to put in \nHost Lunch \nAfternoon departure
URL:https://westernlandowners.org/event/grit-grazing-where-cowgirls-master-the-range-the-bottom-lines/
LOCATION:Redwing Ranch\, Redwing Ranch\, Gardner\, CO\, United States
CATEGORIES:Workshop
ATTACH;FMTTYPE=image/png:https://westernlandowners.org/wp-content/uploads/2022/07/WIR-wordmark-color.png
GEO:37.7833397;-105.1655542
X-APPLE-STRUCTURED-LOCATION;VALUE=URI;X-ADDRESS=Redwing Ranch Redwing Ranch Gardner CO United States;X-APPLE-RADIUS=500;X-TITLE=Redwing Ranch:geo:-105.1655542,37.7833397
END:VEVENT
END:VCALENDAR