BEGIN:VCALENDAR
VERSION:2.0
PRODID:-//Western Landowners Alliance - ECPv6.15.20//NONSGML v1.0//EN
CALSCALE:GREGORIAN
METHOD:PUBLISH
X-WR-CALNAME:Western Landowners Alliance
X-ORIGINAL-URL:https://westernlandowners.org
X-WR-CALDESC:Events for Western Landowners Alliance
REFRESH-INTERVAL;VALUE=DURATION:PT1H
X-Robots-Tag:noindex
X-PUBLISHED-TTL:PT1H
BEGIN:VTIMEZONE
TZID:America/Denver
BEGIN:DAYLIGHT
TZOFFSETFROM:-0700
TZOFFSETTO:-0600
TZNAME:MDT
DTSTART:20240310T090000
END:DAYLIGHT
BEGIN:STANDARD
TZOFFSETFROM:-0600
TZOFFSETTO:-0700
TZNAME:MST
DTSTART:20241103T080000
END:STANDARD
BEGIN:DAYLIGHT
TZOFFSETFROM:-0700
TZOFFSETTO:-0600
TZNAME:MDT
DTSTART:20250309T090000
END:DAYLIGHT
BEGIN:STANDARD
TZOFFSETFROM:-0600
TZOFFSETTO:-0700
TZNAME:MST
DTSTART:20251102T080000
END:STANDARD
BEGIN:DAYLIGHT
TZOFFSETFROM:-0700
TZOFFSETTO:-0600
TZNAME:MDT
DTSTART:20260308T090000
END:DAYLIGHT
BEGIN:STANDARD
TZOFFSETFROM:-0600
TZOFFSETTO:-0700
TZNAME:MST
DTSTART:20261101T080000
END:STANDARD
END:VTIMEZONE
BEGIN:VEVENT
DTSTART;TZID=America/Denver:20251209T120000
DTEND;TZID=America/Denver:20251209T130000
DTSTAMP:20260421T105308
CREATED:20251202T154653Z
LAST-MODIFIED:20251202T155947Z
UID:10000549-1765281600-1765285200@westernlandowners.org
SUMMARY:Ranch Managers Guild - Welcome & Introductions
DESCRIPTION:We are excited to convene the first of our monthly Ranch Managers Guild calls on Tuesday\, December 9 at 12pm MT. This call will be held on Zoom and will serve as an introduction to the guild\, with remarks from WLA CEO Lesli Allison\, and ranch managers Tim Haarmann of Banded Peak Ranch and Billy Whitehurst of Granger Ranches. We will then spend some time on introductions break into small groups to get to know each other and discuss the successes and challenges you’ve seen at the ranch you manage in 2025.  \nParticipation is reserved for active members of the Ranch Managers Guild. Not signed up yet? You can sign up here today. 
URL:https://westernlandowners.org/event/ranch-managers-guild-welcome-introductions/
LOCATION:UT
ATTACH;FMTTYPE=image/png:https://westernlandowners.org/wp-content/uploads/2025/12/Eastern-Oregon-Insta-Flyer.png
ORGANIZER;CN="Western Landowners Alliance":MAILTO:info@westernlandowners.org
END:VEVENT
END:VCALENDAR